BEGIN:VCALENDAR
VERSION:2.0
PRODID:-//Theater Adliswil - ECPv6.2.8//NONSGML v1.0//EN
CALSCALE:GREGORIAN
METHOD:PUBLISH
X-WR-CALNAME:Theater Adliswil
X-ORIGINAL-URL:https://theater-adliswil.ch
X-WR-CALDESC:Veranstaltungen im Theater Adliswil
REFRESH-INTERVAL;VALUE=DURATION:PT1H
X-Robots-Tag:noindex
X-PUBLISHED-TTL:PT1H
BEGIN:VTIMEZONE
TZID:Europe/Paris
BEGIN:DAYLIGHT
TZOFFSETFROM:+0100
TZOFFSETTO:+0200
TZNAME:CEST
DTSTART:20180325T010000
END:DAYLIGHT
BEGIN:STANDARD
TZOFFSETFROM:+0200
TZOFFSETTO:+0100
TZNAME:CET
DTSTART:20181028T010000
END:STANDARD
END:VTIMEZONE
BEGIN:VEVENT
DTSTART;TZID=Europe/Paris:20181117T173000
DTEND;TZID=Europe/Paris:20181117T173000
DTSTAMP:20260421T135242
CREATED:20180201T170757Z
LAST-MODIFIED:20180201T170757Z
UID:1400-1542475800-1542475800@theater-adliswil.ch
SUMMARY:Jahresschlussfeier 2018
DESCRIPTION:
URL:https://theater-adliswil.ch/veranstaltung/jahresschlussfeier-2018/
CATEGORIES:andere
END:VEVENT
END:VCALENDAR